BEGIN:VCALENDAR
VERSION:2.0
PRODID:-//West Leeming Primary School - ECPv6.15.20//NONSGML v1.0//EN
CALSCALE:GREGORIAN
METHOD:PUBLISH
X-WR-CALNAME:West Leeming Primary School
X-ORIGINAL-URL:https://westleeming.wa.edu.au
X-WR-CALDESC:Events for West Leeming Primary School
REFRESH-INTERVAL;VALUE=DURATION:PT1H
X-Robots-Tag:noindex
X-PUBLISHED-TTL:PT1H
BEGIN:VTIMEZONE
TZID:Australia/Perth
BEGIN:STANDARD
TZOFFSETFROM:+0800
TZOFFSETTO:+0800
TZNAME:AWST
DTSTART:20250101T000000
END:STANDARD
END:VTIMEZONE
BEGIN:VEVENT
DTSTART;TZID=Australia/Perth:20261210T090000
DTEND;TZID=Australia/Perth:20261210T100000
DTSTAMP:20260422T003502
CREATED:20260311T070925Z
LAST-MODIFIED:20260311T070928Z
UID:10001222-1796893200-1796896800@westleeming.wa.edu.au
SUMMARY:Assembly\, Music
DESCRIPTION:
URL:https://westleeming.wa.edu.au/event/assembly-music-4/
END:VEVENT
BEGIN:VEVENT
DTSTART;TZID=Australia/Perth:20261211T150000
DTEND;TZID=Australia/Perth:20261211T151500
DTSTAMP:20260422T003502
CREATED:20260311T071027Z
LAST-MODIFIED:20260311T071029Z
UID:10001223-1797001200-1797002100@westleeming.wa.edu.au
SUMMARY:Reports home
DESCRIPTION:
URL:https://westleeming.wa.edu.au/event/reports-home-3/
END:VEVENT
END:VCALENDAR