BEGIN:VCALENDAR
VERSION:2.0
PRODID:-//West Leeming Primary School - ECPv6.15.20//NONSGML v1.0//EN
CALSCALE:GREGORIAN
METHOD:PUBLISH
X-ORIGINAL-URL:https://westleeming.wa.edu.au
X-WR-CALDESC:Events for West Leeming Primary School
REFRESH-INTERVAL;VALUE=DURATION:PT1H
X-Robots-Tag:noindex
X-PUBLISHED-TTL:PT1H
BEGIN:VTIMEZONE
TZID:Australia/Perth
BEGIN:STANDARD
TZOFFSETFROM:+0800
TZOFFSETTO:+0800
TZNAME:AWST
DTSTART:20250101T000000
END:STANDARD
END:VTIMEZONE
BEGIN:VEVENT
DTSTART;TZID=Australia/Perth:20261105T090000
DTEND;TZID=Australia/Perth:20261105T100000
DTSTAMP:20260421T232026
CREATED:20260311T064425Z
LAST-MODIFIED:20260311T064427Z
UID:10001209-1793869200-1793872800@westleeming.wa.edu.au
SUMMARY:WLPS Gift
DESCRIPTION:
URL:https://westleeming.wa.edu.au/event/wlps-gift-4/
END:VEVENT
END:VCALENDAR