BEGIN:VCALENDAR
VERSION:2.0
PRODID:-//West Leeming Primary School - ECPv6.15.20//NONSGML v1.0//EN
CALSCALE:GREGORIAN
METHOD:PUBLISH
X-ORIGINAL-URL:https://westleeming.wa.edu.au
X-WR-CALDESC:Events for West Leeming Primary School
REFRESH-INTERVAL;VALUE=DURATION:PT1H
X-Robots-Tag:noindex
X-PUBLISHED-TTL:PT1H
BEGIN:VTIMEZONE
TZID:Australia/Perth
BEGIN:STANDARD
TZOFFSETFROM:+0800
TZOFFSETTO:+0800
TZNAME:AWST
DTSTART:20250101T000000
END:STANDARD
END:VTIMEZONE
BEGIN:VEVENT
DTSTART;TZID=Australia/Perth:20260311T000000
DTEND;TZID=Australia/Perth:20260320T235959
DTSTAMP:20260419T224407
CREATED:20260209T050553Z
LAST-MODIFIED:20260209T050555Z
UID:10001145-1773187200-1774051199@westleeming.wa.edu.au
SUMMARY:NAPLAN
DESCRIPTION:
URL:https://westleeming.wa.edu.au/event/naplan-2/
CATEGORIES:Year 3,Year 5
END:VEVENT
BEGIN:VEVENT
DTSTART;TZID=Australia/Perth:20260319T090000
DTEND;TZID=Australia/Perth:20260319T100000
DTSTAMP:20260419T224407
CREATED:20260209T050630Z
LAST-MODIFIED:20260209T050632Z
UID:10001146-1773910800-1773914400@westleeming.wa.edu.au
SUMMARY:Assembly\, S3
DESCRIPTION:
URL:https://westleeming.wa.edu.au/event/assembly-s3-2/
END:VEVENT
BEGIN:VEVENT
DTSTART;TZID=Australia/Perth:20260320T000000
DTEND;TZID=Australia/Perth:20260320T235959
DTSTAMP:20260419T224407
CREATED:20260209T050728Z
LAST-MODIFIED:20260311T020247Z
UID:10001147-1773964800-1774051199@westleeming.wa.edu.au
SUMMARY:Harmony Day "Dress in orange or cultural dress"
DESCRIPTION:
URL:https://westleeming.wa.edu.au/event/harmony-day-dress-in-orange-2/
CATEGORIES:Kindergarten,Pre-Primary,Year 1,Year 2,Year 3,Year 4,Year 5,Year 6
END:VEVENT
END:VCALENDAR