BEGIN:VCALENDAR
VERSION:2.0
PRODID:-//West Leeming Primary School - ECPv6.15.20//NONSGML v1.0//EN
CALSCALE:GREGORIAN
METHOD:PUBLISH
X-ORIGINAL-URL:https://westleeming.wa.edu.au
X-WR-CALDESC:Events for West Leeming Primary School
REFRESH-INTERVAL;VALUE=DURATION:PT1H
X-Robots-Tag:noindex
X-PUBLISHED-TTL:PT1H
BEGIN:VTIMEZONE
TZID:Australia/Perth
BEGIN:STANDARD
TZOFFSETFROM:+0800
TZOFFSETTO:+0800
TZNAME:AWST
DTSTART:20240101T000000
END:STANDARD
END:VTIMEZONE
BEGIN:VEVENT
DTSTART;TZID=Australia/Perth:20250428T085500
DTEND;TZID=Australia/Perth:20250428T150500
DTSTAMP:20260422T020308
CREATED:20250108T042659Z
LAST-MODIFIED:20250108T042709Z
UID:10001065-1745830500-1745852700@westleeming.wa.edu.au
SUMMARY:Term 2 - Students return
DESCRIPTION:
URL:https://westleeming.wa.edu.au/event/term-2-students-return-2/
CATEGORIES:Kindergarten,Pre-Primary,Year 1,Year 2,Year 3,Year 4,Year 5,Year 6
END:VEVENT
BEGIN:VEVENT
DTSTART;TZID=Australia/Perth:20250501T100000
DTEND;TZID=Australia/Perth:20250501T110000
DTSTAMP:20260422T020309
CREATED:20250108T043635Z
LAST-MODIFIED:20250108T043648Z
UID:10001069-1746093600-1746097200@westleeming.wa.edu.au
SUMMARY:Assembly\, ANZAC
DESCRIPTION:
URL:https://westleeming.wa.edu.au/event/assembly-anzac-3/
CATEGORIES:Year 1,Year 2,Year 3,Year 4,Year 5,Year 6
END:VEVENT
END:VCALENDAR