BEGIN:VCALENDAR
VERSION:2.0
PRODID:-//West Leeming Primary School - ECPv6.15.20//NONSGML v1.0//EN
CALSCALE:GREGORIAN
METHOD:PUBLISH
X-WR-CALNAME:West Leeming Primary School
X-ORIGINAL-URL:https://westleeming.wa.edu.au
X-WR-CALDESC:Events for West Leeming Primary School
REFRESH-INTERVAL;VALUE=DURATION:PT1H
X-Robots-Tag:noindex
X-PUBLISHED-TTL:PT1H
BEGIN:VTIMEZONE
TZID:Australia/Perth
BEGIN:STANDARD
TZOFFSETFROM:+0800
TZOFFSETTO:+0800
TZNAME:AWST
DTSTART:20250101T000000
END:STANDARD
END:VTIMEZONE
BEGIN:VEVENT
DTSTART;TZID=Australia/Perth:20260323T000000
DTEND;TZID=Australia/Perth:20260612T235959
DTSTAMP:20260419T211519
CREATED:20260311T055347Z
LAST-MODIFIED:20260311T055350Z
UID:10001177-1774224000-1781308799@westleeming.wa.edu.au
SUMMARY:Premier's Reading Challenge
DESCRIPTION:
URL:https://westleeming.wa.edu.au/event/premiers-reading-challenge/
CATEGORIES:Kindergarten,Pre-Primary,Year 1,Year 2,Year 3,Year 4,Year 5,Year 6
END:VEVENT
BEGIN:VEVENT
DTSTART;TZID=Australia/Perth:20260601T000000
DTEND;TZID=Australia/Perth:20260601T235959
DTSTAMP:20260419T211519
CREATED:20260209T053529Z
LAST-MODIFIED:20260209T053532Z
UID:10001163-1780272000-1780358399@westleeming.wa.edu.au
SUMMARY:WA Day (public holiday)
DESCRIPTION:
URL:https://westleeming.wa.edu.au/event/wa-day-public-holiday-2/
END:VEVENT
BEGIN:VEVENT
DTSTART;TZID=Australia/Perth:20260602T000000
DTEND;TZID=Australia/Perth:20260602T235959
DTSTAMP:20260419T211519
CREATED:20260209T053116Z
LAST-MODIFIED:20260209T053119Z
UID:10001161-1780358400-1780444799@westleeming.wa.edu.au
SUMMARY:School Development Day (no students)
DESCRIPTION:
URL:https://westleeming.wa.edu.au/event/school-development-day-no-students-5/
END:VEVENT
BEGIN:VEVENT
DTSTART;TZID=Australia/Perth:20260603T093000
DTEND;TZID=Australia/Perth:20260603T100000
DTSTAMP:20260419T211519
CREATED:20260311T055232Z
LAST-MODIFIED:20260311T055234Z
UID:10001176-1780479000-1780480800@westleeming.wa.edu.au
SUMMARY:Kindy 2027 School Tour
DESCRIPTION:
URL:https://westleeming.wa.edu.au/event/kindy-2027-school-tour/
END:VEVENT
BEGIN:VEVENT
DTSTART;TZID=Australia/Perth:20260611T090000
DTEND;TZID=Australia/Perth:20260611T100000
DTSTAMP:20260419T211519
CREATED:20260311T055512Z
LAST-MODIFIED:20260311T055514Z
UID:10001179-1781168400-1781172000@westleeming.wa.edu.au
SUMMARY:Assembly\, M4
DESCRIPTION:
URL:https://westleeming.wa.edu.au/event/assembly-m4-2/
END:VEVENT
BEGIN:VEVENT
DTSTART;TZID=Australia/Perth:20260612T160000
DTEND;TZID=Australia/Perth:20260612T210000
DTSTAMP:20260419T211519
CREATED:20260311T055435Z
LAST-MODIFIED:20260311T055438Z
UID:10001178-1781280000-1781298000@westleeming.wa.edu.au
SUMMARY:P&C Disco
DESCRIPTION:
URL:https://westleeming.wa.edu.au/event/pc-disco-4/
END:VEVENT
BEGIN:VEVENT
DTSTART;TZID=Australia/Perth:20260615T180000
DTEND;TZID=Australia/Perth:20260615T193000
DTSTAMP:20260419T211519
CREATED:20260311T055620Z
LAST-MODIFIED:20260311T055622Z
UID:10001180-1781546400-1781551800@westleeming.wa.edu.au
SUMMARY:Board Meeting
DESCRIPTION:
URL:https://westleeming.wa.edu.au/event/board-meeting-11/
END:VEVENT
BEGIN:VEVENT
DTSTART;TZID=Australia/Perth:20260615T193000
DTEND;TZID=Australia/Perth:20260615T203000
DTSTAMP:20260419T211519
CREATED:20260311T055711Z
LAST-MODIFIED:20260311T055713Z
UID:10001181-1781551800-1781555400@westleeming.wa.edu.au
SUMMARY:P&C Meeting
DESCRIPTION:
URL:https://westleeming.wa.edu.au/event/pc-meeting-24/
END:VEVENT
BEGIN:VEVENT
DTSTART;TZID=Australia/Perth:20260625T090000
DTEND;TZID=Australia/Perth:20260625T100000
DTSTAMP:20260419T211519
CREATED:20260311T055748Z
LAST-MODIFIED:20260311T055751Z
UID:10001182-1782378000-1782381600@westleeming.wa.edu.au
SUMMARY:Assembly\, M1
DESCRIPTION:
URL:https://westleeming.wa.edu.au/event/assembly-m1-2/
END:VEVENT
BEGIN:VEVENT
DTSTART;TZID=Australia/Perth:20260626T150000
DTEND;TZID=Australia/Perth:20260626T150000
DTSTAMP:20260419T211519
CREATED:20260311T055859Z
LAST-MODIFIED:20260311T055902Z
UID:10001183-1782486000-1782486000@westleeming.wa.edu.au
SUMMARY:Reports home
DESCRIPTION:
URL:https://westleeming.wa.edu.au/event/reports-home-2/
END:VEVENT
BEGIN:VEVENT
DTSTART;TZID=Australia/Perth:20260629T000000
DTEND;TZID=Australia/Perth:20260629T235959
DTSTAMP:20260419T211519
CREATED:20260312T050027Z
LAST-MODIFIED:20260312T050029Z
UID:10001224-1782691200-1782777599@westleeming.wa.edu.au
SUMMARY:Parent/Teacher Interviews
DESCRIPTION:
URL:https://westleeming.wa.edu.au/event/parent-teacher-interviews/
END:VEVENT
END:VCALENDAR