BEGIN:VCALENDAR
VERSION:2.0
PRODID:-//West Leeming Primary School - ECPv6.15.20//NONSGML v1.0//EN
CALSCALE:GREGORIAN
METHOD:PUBLISH
X-ORIGINAL-URL:https://westleeming.wa.edu.au
X-WR-CALDESC:Events for West Leeming Primary School
REFRESH-INTERVAL;VALUE=DURATION:PT1H
X-Robots-Tag:noindex
X-PUBLISHED-TTL:PT1H
BEGIN:VTIMEZONE
TZID:Australia/Perth
BEGIN:STANDARD
TZOFFSETFROM:+0800
TZOFFSETTO:+0800
TZNAME:AWST
DTSTART:20240101T000000
END:STANDARD
END:VTIMEZONE
BEGIN:VEVENT
DTSTART;TZID=Australia/Perth:20250217T180000
DTEND;TZID=Australia/Perth:20250217T184500
DTSTAMP:20260421T211936
CREATED:20250108T033531Z
LAST-MODIFIED:20250108T033610Z
UID:10001043-1739815200-1739817900@westleeming.wa.edu.au
SUMMARY:Kindy Parent Night
DESCRIPTION:
URL:https://westleeming.wa.edu.au/event/kindy-parent-night/
CATEGORIES:Kindergarten
END:VEVENT
END:VCALENDAR